BEGIN:VCALENDAR
VERSION:2.0
PRODID:-//Fanfarenzug Lindau/Harz - ECPv6.15.20//NONSGML v1.0//EN
CALSCALE:GREGORIAN
METHOD:PUBLISH
X-WR-CALNAME:Fanfarenzug Lindau/Harz
X-ORIGINAL-URL:https://fz-lindau.de
X-WR-CALDESC:Veranstaltungen für Fanfarenzug Lindau/Harz
REFRESH-INTERVAL;VALUE=DURATION:PT1H
X-Robots-Tag:noindex
X-PUBLISHED-TTL:PT1H
BEGIN:VTIMEZONE
TZID:Europe/Berlin
BEGIN:DAYLIGHT
TZOFFSETFROM:+0100
TZOFFSETTO:+0200
TZNAME:CEST
DTSTART:20250330T010000
END:DAYLIGHT
BEGIN:STANDARD
TZOFFSETFROM:+0200
TZOFFSETTO:+0100
TZNAME:CET
DTSTART:20251026T010000
END:STANDARD
BEGIN:DAYLIGHT
TZOFFSETFROM:+0100
TZOFFSETTO:+0200
TZNAME:CEST
DTSTART:20260329T010000
END:DAYLIGHT
BEGIN:STANDARD
TZOFFSETFROM:+0200
TZOFFSETTO:+0100
TZNAME:CET
DTSTART:20261025T010000
END:STANDARD
BEGIN:DAYLIGHT
TZOFFSETFROM:+0100
TZOFFSETTO:+0200
TZNAME:CEST
DTSTART:20270328T010000
END:DAYLIGHT
BEGIN:STANDARD
TZOFFSETFROM:+0200
TZOFFSETTO:+0100
TZNAME:CET
DTSTART:20271031T010000
END:STANDARD
END:VTIMEZONE
BEGIN:VEVENT
DTSTART;TZID=Europe/Berlin:20260222T000000
DTEND;TZID=Europe/Berlin:20260223T000000
DTSTAMP:20260421T114803
CREATED:20260203T155613Z
LAST-MODIFIED:20260203T160054Z
UID:899-1771718400-1771804800@fz-lindau.de
SUMMARY:Karneval Hilwartshausen (Fanfarenzug Lindau/Harz v.1953 e.V.)
DESCRIPTION:Auftritt – Zeiten folgen noch
URL:https://fz-lindau.de/event/karneval-hilwartshausen-fanfarenzug-lindau-harz-v-1953-e-v-2/
END:VEVENT
BEGIN:VEVENT
DTSTART;TZID=Europe/Berlin:20260215T000000
DTEND;TZID=Europe/Berlin:20260216T000000
DTSTAMP:20260421T114803
CREATED:20260203T155612Z
LAST-MODIFIED:20260203T160054Z
UID:898-1771113600-1771200000@fz-lindau.de
SUMMARY:Karneval Lauenberg (Fanfarenzug Lindau/Harz v.1953 e.V.)
DESCRIPTION:Auftritt – Zeiten folgen noch
URL:https://fz-lindau.de/event/karneval-lauenberg-fanfarenzug-lindau-harz-v-1953-e-v-2/
END:VEVENT
BEGIN:VEVENT
DTSTART;TZID=Europe/Berlin:20260207T000000
DTEND;TZID=Europe/Berlin:20260207T000000
DTSTAMP:20260421T114803
CREATED:20260203T155923Z
LAST-MODIFIED:20260203T160054Z
UID:904-1770422400-1770422400@fz-lindau.de
SUMMARY:Karneval Weißenborn (Fanfarenzug Lindau/Harz v.1953 e.V.)
DESCRIPTION:Auftritt
URL:https://fz-lindau.de/event/karneval-weissenborn-fanfarenzug-lindau-harz-v-1953-e-v-2/
END:VEVENT
BEGIN:VEVENT
DTSTART;TZID=Europe/Berlin:20260124T210000
DTEND;TZID=Europe/Berlin:20260124T230000
DTSTAMP:20260421T114803
CREATED:20260107T021417Z
LAST-MODIFIED:20260124T171753Z
UID:563-1769288400-1769295600@fz-lindau.de
SUMMARY:Jahreshauptversammlung (Fanfarenzug Lindau/Harz v.1953 e.V.)
DESCRIPTION:
URL:https://fz-lindau.de/event/jahreshauptversammlung-fanfarenzug-lindau-harz-v-1953-e-v/
END:VEVENT
END:VCALENDAR